BEGIN:VCALENDAR
VERSION:2.0
PRODID:gb_events TYPO3 Extension
METHOD:PUBLISH
BEGIN:VEVENT
UID:29d27cb54f8ec0628515558246497d21
LOCATION:Online
SUMMARY:Online Infoveranstaltung 28.04.2026 - VfB Master / Power MBA
DESCRIPTION:Dann nimm doch an unserer Online Infoveranstaltung teil!\nProf. Dr. André Bühler stellt die Konzepte des VfB Master und des Power MBA vor und beantwortet im persönlichen Gespräch Fragen rund um Bewerbung\, Inhalt und Ablauf unserer berufsbegleitenden MBA-Programme.\nMelde Dich jetzt per Mail\, WhatsApp oder unser Kontaktformular an. Im Anschluss erhälst du den kostenlosen Teilnahmelink.\nKeine Zeit für unsere Online-Infoveranstaltungen?\nDann schau Dir jederzeit unser Infovideo zum VfB Master / Power MBA an":"\nJetzt Infovideo ansehen
CLASS:PUBLIC
DTSTART:20260428T150000Z
DTEND:20260428T150000Z
DTSTAMP:20260420T165112Z
END:VEVENT
END:VCALENDAR