BEGIN:VCALENDAR
VERSION:2.0
PRODID:gb_events TYPO3 Extension
METHOD:PUBLISH
BEGIN:VEVENT
UID:20fbc9c2fda6a8d0409bb1c167d27f67
LOCATION:Akademie der Kulturellen Bildung\, Remscheid\, NRW
SUMMARY:Internationale Sommerakademie 2023 Theatertherapie
DESCRIPTION:Über mehrere Tage lernen Theatertherapie-Interessierte\, Praktizierende und Lehrende aus dem deutschsprachigen Raum gemeinsam in interessanten Beiträgen und praktischen Kurzseminaren. Das genaue Programm sowie der Zeitrahmen wird noch bekanntgegeben. Eine Anmeldung soll ab Februar möglich sein":" https":"//www.theatertherapie.org/intern-sommerakademie/
CLASS:PUBLIC
DTSTART:20230517T085200Z
DTEND:20230521T085200Z
DTSTAMP:20260421T134447Z
END:VEVENT
END:VCALENDAR