BEGIN:VCALENDAR
VERSION:2.0
PRODID:gb_events TYPO3 Extension
METHOD:PUBLISH
BEGIN:VEVENT
UID:8667090069d4c52e94ef5cec917396a6
LOCATION:Online
SUMMARY:Online Infoveranstaltung 20.05.2026 - VfB Master / Power MBA
DESCRIPTION:Dann nimm doch an unserer Online Infoveranstaltung teil!\nProf. Dr. André Bühler stellt die Konzepte des VfB Master und des Power MBA vor und beantwortet im persönlichen Gespräch Fragen rund um Bewerbung\, Inhalt und Ablauf unserer berufsbegleitenden MBA-Programme.\nMelde Dich jetzt per Mail\, WhatsApp oder unser Kontaktformular an. Im Anschluss erhälst du den kostenlosen Teilnahmelink.\nKeine Zeit für unsere Online-Infoveranstaltungen?\nDann schau Dir jederzeit unser Infovideo zum VfB Master / Power MBA an":"\nJetzt Infovideo ansehen
CLASS:PUBLIC
DTSTART:20260520T150000Z
DTEND:20260520T150000Z
DTSTAMP:20260423T022507Z
END:VEVENT
END:VCALENDAR