BEGIN:VCALENDAR
VERSION:2.0
PRODID:gb_events TYPO3 Extension
METHOD:PUBLISH
BEGIN:VEVENT
UID:b993cccf6942cea4c506b4018dacc0b7
LOCATION:MS Teams (Code":" quzafe0)
SUMMARY:#nixwieweg - IO informiert":" Finanzierung und Stipendien
DESCRIPTION:Welche Finanzierungsmöglichkeiten und Stipendien passen für meinen Auslandsaufenthalt?\nUmfassendes Informationsmaterial zu den Veranstaltungen unserer #nixwieweg - Reihe auch in neo":" Einrichtung":" ZO IO Outgoings (Studium\, Praktikum\, Study Tours im Ausland) Ordner":" A_Auslandsstudium / Veranstaltungen / IO informiert - #nixwieweg
CLASS:PUBLIC
DTSTART:20240507T111500Z
DTEND:20240507T111500Z
DTSTAMP:20260422T151820Z
END:VEVENT
END:VCALENDAR