BEGIN:VCALENDAR
VERSION:2.0
PRODID:gb_events TYPO3 Extension
METHOD:PUBLISH
BEGIN:VEVENT
UID:c3b755b3bc2e0a5909c90e7e1d2fad11
LOCATION:Online\, Zoom
SUMMARY:Online-Schnuppervorlesung DQUOTEDigital Transformation & Change ManagementDQUOTE Teilkurs DQUOTEDigital Business Model TransformationDQUOTE
DESCRIPTION:Schnuppervorlesung im Modul DQUOTEDigital Transformation & Change ManagementDQUOTE Teilkurs DQUOTEDigital Business Model TransformationDQUOTE. Melde Dich gerne einfach zur Schnuppervorlesung an und wähle Dich online ein":"\nKostenfreie Anmeldung
CLASS:PUBLIC
DTSTART:20260424T141500Z
DTEND:20260424T181500Z
DTSTAMP:20260423T001028Z
END:VEVENT
END:VCALENDAR