BEGIN:VCALENDAR
VERSION:2.0
PRODID:gb_events TYPO3 Extension
METHOD:PUBLISH
BEGIN:VEVENT
UID:eba13a1ced1852409ff54c91e6e181a1
LOCATION:Online\, Zoom
SUMMARY:Online-Schnuppervorlesung DQUOTEDigital Technology & LawDQUOTE Teilkurs DQUOTEDigital TechnologyDQUOTE
DESCRIPTION:Schnuppervorlesung im Modul DQUOTEDQUOTEDigital Technology & LawDQUOTE Teilkurs DQUOTEDigital TechnologyDQUOTE. Melde Dich gerne einfach zur Schnuppervorlesung an und wähle Dich online ein":"\nKostenfreie Anmeldung
CLASS:PUBLIC
DTSTART:20260424T141500Z
DTEND:20260424T181500Z
DTSTAMP:20260422T233707Z
END:VEVENT
END:VCALENDAR