BEGIN:VCALENDAR
VERSION:2.0
PRODID:gb_events TYPO3 Extension
METHOD:PUBLISH
BEGIN:VEVENT
UID:1e4d55b6e52072bd3e829fe09060ff29
LOCATION:Online\, Zoom
SUMMARY:Online-Schnuppervorlesung DQUOTEDigital Transformation & Change ManagementDQUOTE Teilkurs DQUOTEDigital Business Model TransformationDQUOTE
DESCRIPTION:Schnuppervorlesung im Modul DQUOTEDigital Transformation & Change ManagementDQUOTE Teilkurs DQUOTEDigital Business Model TransformationDQUOTE. Melde Dich gerne einfach zur Schnuppervorlesung an und wähle Dich online ein":"\nKostenfreie Anmeldung
CLASS:PUBLIC
DTSTART:20260425T061500Z
DTEND:20260425T131500Z
DTSTAMP:20260422T233743Z
END:VEVENT
END:VCALENDAR