BEGIN:VCALENDAR
VERSION:2.0
PRODID:gb_events TYPO3 Extension
METHOD:PUBLISH
BEGIN:VEVENT
UID:cebb9eb64a31ff5e9ded76add71e1802
LOCATION:Online\, Zoom
SUMMARY:Online-Schnuppervorlesung DQUOTEDigital Technology & LawDQUOTE Teilkurs DQUOTEDigital TechnologyDQUOTE
DESCRIPTION:Schnuppervorlesung im Modul DQUOTEDQUOTEDigital Technology & LawDQUOTE Teilkurs DQUOTEDigital TechnologyDQUOTE. Melde Dich gerne einfach zur Schnuppervorlesung an und wähle Dich online ein":"\nKostenfreie Anmeldung
CLASS:PUBLIC
DTSTART:20260425T061500Z
DTEND:20260425T131500Z
DTSTAMP:20260422T233743Z
END:VEVENT
END:VCALENDAR