BEGIN:VCALENDAR
VERSION:2.0
PRODID:gb_events TYPO3 Extension
METHOD:PUBLISH
BEGIN:VEVENT
UID:5375eda619caa27ed4a5561671e79aee
LOCATION:Stadthalle K3N in Nürtingen
SUMMARY:Semestereröffnung Nürtingen - Herzlich willkommen an der HfWU
DESCRIPTION:Genaue Details und das Programm finden Sie auf folgender Seite":" Semestereröffnung
CLASS:PUBLIC
DTSTART:20260323T073000Z
DTEND:20260323T073000Z
DTSTAMP:20260423T151123Z
END:VEVENT
END:VCALENDAR