BEGIN:VCALENDAR
VERSION:2.0
PRODID:gb_events TYPO3 Extension
METHOD:PUBLISH
BEGIN:VEVENT
UID:9eb7c712e26e6b5299e1cc5847af67ea
LOCATION:Jahnhalle Geislingen
SUMMARY:Semestereröffnung Geislingen - Herzlich willkommen an der HfWU
DESCRIPTION:Genaue Details und das Programm finden Sie auf folgender Seite":" Semestereröffnung
CLASS:PUBLIC
DTSTART:20260323T100000Z
DTEND:20260323T100000Z
DTSTAMP:20260423T152440Z
END:VEVENT
END:VCALENDAR