BEGIN:VCALENDAR
VERSION:2.0
PRODID:gb_events TYPO3 Extension
METHOD:PUBLISH
BEGIN:VEVENT
UID:b9de5b31895199ff6a7558394e6903a4
LOCATION:Stadtkriche St. Laurentius Nürtingen
SUMMARY:Semesteranfangsgottesdienst
DESCRIPTION:Semesteranfangsgottesdienst in der Stadtkirche St. Laurentius Nürtingen
CLASS:PUBLIC
DTSTART:20230322T070000Z
DTEND:20230322T070000Z
DTSTAMP:20260419T122427Z
END:VEVENT
END:VCALENDAR