BEGIN:VCALENDAR
VERSION:2.0
PRODID:gb_events TYPO3 Extension
METHOD:PUBLISH
BEGIN:VEVENT
UID:27d3ac46c78e2328763cf949a97e5bcb
LOCATION:Online (MS Teams)
SUMMARY:Online Infoveranstaltung M.Sc. Masterstudiengang Unternehmensführung
DESCRIPTION:#Unternehmensführung\, #Wirtschaft\, #Innovationsmanagement\, #Steuerung komplexer System und #Methoden empirischer Forschung sind für dich interessante Themen und Du möchtest wissen\, ob unser Masterstudiengang der nächste sinnvolle Schritt nach Deinem Bachelorstudium darstellt?\nWir freuen uns Dich kennenzulernen!\n(Selbstverständlich ist die Teilnahme unverbindlich und kostenfrei).\nDer Zugangslink zu der Veranstaltung ist wie folgt":"  https":"//teams.microsoft.com/l/meetup-join/19%3ameeting_YWVhNzZiYTktZWZlMy00ODVlLTk2ODgtZTlmYWQ4MmZiNTZi%40thread.v2/0?context=%7b%22Tid%22%3a%2201cd5f07-781d-4755-b9ae-ddb85280c3ee%22%2c%22Oid%22%3a%2204195ba4-9ff8-422e-9088-f4f49b948b7b%22%7d Vorabinformationen zu der Veranstaltung gibt es unter www.hfwu.de/uf
CLASS:PUBLIC
DTSTART:20240624T170000Z
DTEND:20240624T180000Z
DTSTAMP:20260424T025519Z
END:VEVENT
END:VCALENDAR