BEGIN:VCALENDAR
VERSION:2.0
PRODID:gb_events TYPO3 Extension
METHOD:PUBLISH
BEGIN:VEVENT
UID:70b92871e223c70f0b7d20fc3c136331
LOCATION:Online über Zoom
SUMMARY:Online Infoveranstaltung VfB Master / Power MBA
DESCRIPTION:Prof. Dr. André Bühler stellt die Konzepte des VfB Master und des Power MBA vor und beantwortet im persönlichen Gespräch Fragen rund um Bewerbung\, Inhalt und Ablauf unserer berufsbegleitenden MBA-Programme. Außerdem stehen die VfB Bildungsakademie und ein Alumni des VfB Master / Power MBA für Fragen zur Verfügung.   Bitte melden Sie sich per Mail an":" vfb-master@hfwu.de Sie bekommen dann einen Link zugeschickt.
CLASS:PUBLIC
DTSTART:20250818T220000Z
DTEND:20250818T220000Z
DTSTAMP:20260423T152522Z
END:VEVENT
END:VCALENDAR