BEGIN:VCALENDAR
VERSION:2.0
PRODID:gb_events TYPO3 Extension
METHOD:PUBLISH
BEGIN:VEVENT
UID:5cc509ae4756063a3b3aa0ebdf9556dd
LOCATION:online
SUMMARY:Online-Infoabend für berufsbegleitenden MBA Internationales Projektmanagement und agiles Projekt- und Transformationsmanagement
DESCRIPTION:Sie haben Interesse an dem MBA Programm? Da haben wir etwas für Sie. Im Rahmen unseres Online-Infoabends gehen wir unter anderem auf folgende Punkte ein":"\n 	 	Welche Karrierechancen ermöglicht Ihnen das MBA-Programm „Internationales Projektmanagement und agiles Projekt- und Transformationsmanagement“? 	 	 	Welche Kompetenzen benötigen Sie für das Projektmanagement der Zukunft? 	 	 	Welche Vertiefungsrichtung sollten Sie wählen? „Internationales Projektmanagement“ oder „Agiles Projekt- und Transformationsmanagement“? 	 	 	Wie sollte ein Unternehmen seine Projektorganisation im Sinne maximaler Wettbewerbsfähigkeit gestalten? 	 	 	Was sind die Vorteile des MBA Programms des ifmme im Vergleich zu anderen Projektmanagement Masterstudiengängen? 	 \nWir freuen uns\, wenn Sie online bei uns am Donnerstag\, 13. April 2023 von 18":"30 – 19":"30 Uhr vorbeischauen. Melden Sie sich einfach per E-Mail an verwaltung@ifmme.de an. Wir senden Ihnen zur Teilnahme einen Einladungslink zu.
CLASS:PUBLIC
DTSTART:20230413T163000Z
DTEND:20230413T173000Z
DTSTAMP:20260423T153125Z
END:VEVENT
END:VCALENDAR