BEGIN:VCALENDAR
VERSION:2.0
PRODID:gb_events TYPO3 Extension
METHOD:PUBLISH
BEGIN:VEVENT
UID:b6cce324770aef9b53a5cc410f5613ed
LOCATION:Heilbronn
SUMMARY:Messe":" Vocatium\, Heilbronn
DESCRIPTION:Die HfWU präsentiert sich auf verschiedenen Bildungsmessen und stellt sich in Schulen vor. Hier besteht für Interessierte eine gute Möglichkeit das Studienangebot der HfWU kennenzulernen und mit Vertretern und Studierenden der Hochschule ins Gespräch zu kommen. Nähere Informationen finden Sie auf folgender Seite":" LINK
CLASS:PUBLIC
DTSTART:20230713T063000Z
DTEND:20230713T133000Z
DTSTAMP:20260423T152635Z
END:VEVENT
END:VCALENDAR