BEGIN:VCALENDAR
VERSION:2.0
PRODID:gb_events TYPO3 Extension
METHOD:PUBLISH
BEGIN:VEVENT
UID:ad0b28708d6868818704aeeef8660274
LOCATION:Stuttgart
SUMMARY:Messe":" Master and More\, Stuttgart
DESCRIPTION:Die HfWU präsentiert sich auf verschiedenen Bildungsmessen und stellt sich in Schulen vor. Hier besteht für Interessierte eine gute Möglichkeit das Studienangebot der HfWU kennenzulernen und mit Vertretern und Studierenden der Hochschule ins Gespräch zu kommen. Nähere Informationen finden Sie auf folgender Seite":" LINK
CLASS:PUBLIC
DTSTART:20221117T230000Z
DTEND:20221118T134700Z
DTSTAMP:20260423T150417Z
END:VEVENT
END:VCALENDAR