BEGIN:VCALENDAR
VERSION:2.0
PRODID:gb_events TYPO3 Extension
METHOD:PUBLISH
BEGIN:VEVENT
UID:04ec0d044bc4ffecb116b2c171b40de3
LOCATION:Filderstadt
SUMMARY:Messe":" Börse deiner Zukunft\, Filderstadt
DESCRIPTION:Die HfWU präsentiert sich auf verschiedenen Bildungsmessen und stellt sich in Schulen vor. Hier besteht für Interessierte eine gute Möglichkeit das Studienangebot der HfWU kennenzulernen und mit Vertretern und Studierenden der Hochschule ins Gespräch zu kommen. Nähere Informationen finden Sie auf folgender Seite":" LINK
CLASS:PUBLIC
DTSTART:20221024T220000Z
DTEND:20221025T124300Z
DTSTAMP:20260423T150046Z
END:VEVENT
END:VCALENDAR