BEGIN:VCALENDAR
VERSION:2.0
PRODID:gb_events TYPO3 Extension
METHOD:PUBLISH
BEGIN:VEVENT
UID:5c5dc464fc79d57f6d726b6712754c5a
LOCATION:Geislingen/Steige\, Pa4-UG1\, UGDQUOTE und UG3
SUMMARY:Lange Nacht der Formeln
DESCRIPTION:Liebe Studierende\,\ndie „lange Nacht der Formeln“ findet am Montag\, 23.01.2023 ab 17.30 Uhr für alle Studierende aller Studiengänge statt. Raum":" Pa4- UG 1\, UG2 und UG3. -Übung macht den Bachelor! -
CLASS:PUBLIC
DTSTART:20230123T081100Z
DTEND:20230123T081100Z
DTSTAMP:20260421T120824Z
END:VEVENT
END:VCALENDAR