BEGIN:VCALENDAR
VERSION:2.0
PRODID:gb_events TYPO3 Extension
METHOD:PUBLISH
BEGIN:VEVENT
UID:5e489313265fd19a46e4cc792182a621
LOCATION:Sigmaringer Straße 15/2\, 72622 Nürtingen
SUMMARY:Integrationsfeier 'Zusammen Gehen' am 12.06.2026
DESCRIPTION:Vor genau 10 Jahren\, zum Sommersemester 2016\, integrierte sich die Hochschule für Kunsttherapie in die Hochschule für Wirtschaft und Umwelt Nürtingen-Geislingen. Seither sind die Studiengänge Kunst- und Theatertherapie ein Teil der neuen Fakultät Umwelt Gestaltung Therapie. Die planerischen\, gestalterischen\, künstlerischen und therapeutischen Disziplinen geben der Fakultät ein einzigartiges Profil. Das wollen wir am Freitag\, dem 12. Juni 2026\, unter dem Motto ‚Zusammen Gehen‘ feiern":" ab 14 Uhr in der Sigmaringer Straße 15/2 in der Nürtinger Innenstadt.\nDie Teilnahme ist kostenfrei. Wir freuen uns auf Ihre Anmeldung gerne bis zum 15.05.2026. 
CLASS:PUBLIC
DTSTART:20260612T120000Z
DTEND:20260612T150000Z
DTSTAMP:20260420T180921Z
END:VEVENT
END:VCALENDAR