BEGIN:VCALENDAR
VERSION:2.0
PRODID:gb_events TYPO3 Extension
METHOD:PUBLISH
BEGIN:VEVENT
UID:fef2bc84483f50b54bd32c2bb1fbeedf
LOCATION:Stuttgart
SUMMARY:Messe":" Bachelor and More\, Stuttgart
DESCRIPTION:Die HfWU präsentiert sich auf verschiedenen Bildungsmessen und stellt sich in Schulen vor. Hier besteht für Interessierte eine gute Möglichkeit das Studienangebot der HfWU kennenzulernen und mit Vertretern und Studierenden der Hochschule ins Gespräch zu kommen. Nähere Informationen finden Sie auf folgender Seite":" LINK
CLASS:PUBLIC
DTSTART:20221118T230000Z
DTEND:20221119T134600Z
DTSTAMP:20260423T150014Z
END:VEVENT
END:VCALENDAR