BEGIN:VCALENDAR
VERSION:2.0
PRODID:gb_events TYPO3 Extension
METHOD:PUBLISH
BEGIN:VEVENT
UID:b485278e6f74ec38a8c7c9ee42393301
LOCATION:Schelmenwasen 6\, 72622 Nürtingen
SUMMARY:DQUOTEBingo! Garten Eden für jedenDQUOTE Sonntagsplausch im Grünen am 3. Mai.
DESCRIPTION:Genießen Sie einen entspannten Nachmittag beim Sonntagsplausch! Tauchen Sie ein in lebendige Gespräche\, entdecken Sie spannende Themen und lassen Sie sich von frischen Ideen inspirieren. Kommen Sie vorbei und gönnen Sie sich eine kleine Auszeit unter freiem Himmel.\nDer Eintritt ist kostenlos.
CLASS:PUBLIC
DTSTART:20260503T120000Z
DTEND:20260503T150000Z
DTSTAMP:20260420T100923Z
END:VEVENT
END:VCALENDAR