BEGIN:VCALENDAR
VERSION:2.0
PRODID:gb_events TYPO3 Extension
METHOD:PUBLISH
BEGIN:VEVENT
UID:cc5ed84cd87df6419d50bed4b7079558
LOCATION:virtuell
SUMMARY:21. Immobilienkongress
DESCRIPTION:Sehr geehrte Damen und Herren\,\nwir stellen uns beim diesjährigen 21. Immobilienkongress der immobilienwirtschaftlichen Studiengänge die Frage\nWie weiter mit dem Immobilienmarkt – Vor welchen neuen Herausforderungen steht der Wohnungs- und Immobilienmarkt nach den Bundestagswahlen?\nZu diesen aktuellen Themen werden namhafte Referenten*innen berichten. Im Anschluss ist für die Förderer des Freundeskreises die jährliche Sitzung geplant!\nBitte merken Sie sich Mittwoch\, den 06. Oktober von 09":"00 bis 13":"00 Uhr vor!\nDie Veranstaltung findet virtuell statt! Wir freuen uns auf Sie.\nIhr Immo-Team
CLASS:PUBLIC
DTSTART:20211006T062600Z
DTEND:20211006T062600Z
DTSTAMP:20260423T151143Z
END:VEVENT
END:VCALENDAR